BEGIN:VCALENDAR
VERSION:2.0
PRODID:-//Facultad de Ciencias Veterinarias - ECPv6.15.20//NONSGML v1.0//EN
CALSCALE:GREGORIAN
METHOD:PUBLISH
X-WR-CALNAME:Facultad de Ciencias Veterinarias
X-ORIGINAL-URL:https://vet.unne.edu.ar
X-WR-CALDESC:Eventos para Facultad de Ciencias Veterinarias
REFRESH-INTERVAL;VALUE=DURATION:PT1H
X-Robots-Tag:noindex
X-PUBLISHED-TTL:PT1H
BEGIN:VTIMEZONE
TZID:America/Argentina/Buenos_Aires
BEGIN:STANDARD
TZOFFSETFROM:-0300
TZOFFSETTO:-0300
TZNAME:-03
DTSTART:20230101T000000
END:STANDARD
END:VTIMEZONE
BEGIN:VEVENT
DTSTART;TZID=America/Argentina/Buenos_Aires:20241017T080000
DTEND;TZID=America/Argentina/Buenos_Aires:20241017T180000
DTSTAMP:20260421T044717
CREATED:20240906T201516Z
LAST-MODIFIED:20240906T201643Z
UID:3644-1729152000-1729188000@vet.unne.edu.ar
SUMMARY:XXII SESIONES DE COMUNICACIONES TECNICAS Y CIENTIFICAS ESTUDIANTILES
DESCRIPTION:XXII SESIONES DE COMUNICACIONES TECNICAS Y CIENTIFICAS ESTUDIANTILES
URL:https://vet.unne.edu.ar/event/xxii-sesiones-de-comunicaciones-tecnicas-y-cientificas-estudiantiles/
LOCATION:Campus Sargento Cabral\, Sgto. Cabral 2139\, corrientes\, Corrientes\, 3400\, Argentina
END:VEVENT
END:VCALENDAR