BEGIN:VCALENDAR
VERSION:2.0
PRODID:-//Facultad de Ciencias Veterinarias - ECPv6.15.20//NONSGML v1.0//EN
CALSCALE:GREGORIAN
METHOD:PUBLISH
X-WR-CALNAME:Facultad de Ciencias Veterinarias
X-ORIGINAL-URL:https://vet.unne.edu.ar
X-WR-CALDESC:Eventos para Facultad de Ciencias Veterinarias
REFRESH-INTERVAL;VALUE=DURATION:PT1H
X-Robots-Tag:noindex
X-PUBLISHED-TTL:PT1H
BEGIN:VTIMEZONE
TZID:America/Argentina/Buenos_Aires
BEGIN:STANDARD
TZOFFSETFROM:-0300
TZOFFSETTO:-0300
TZNAME:-03
DTSTART:20230101T000000
END:STANDARD
END:VTIMEZONE
BEGIN:VEVENT
DTSTART;TZID=America/Argentina/Buenos_Aires:20241025T080000
DTEND;TZID=America/Argentina/Buenos_Aires:20241026T170000
DTSTAMP:20260420T151403
CREATED:20241018T174601Z
LAST-MODIFIED:20241018T174941Z
UID:4784-1729843200-1729962000@vet.unne.edu.ar
SUMMARY:3° Curso de actualización en control de garrapatas y prevención de babesiosis y anaplasmosis bovina
DESCRIPTION:
URL:https://vet.unne.edu.ar/event/3-curso-de-actualizacion-en-control-de-garrapatas-y-prevencion-de-babesiosis-y-anaplasmosis-bovina/
LOCATION:Campus Sargento Cabral\, Sgto. Cabral 2139\, corrientes\, Corrientes\, 3400\, Argentina
END:VEVENT
END:VCALENDAR