BEGIN:VCALENDAR
VERSION:2.0
PRODID:-//Facultad de Ciencias Veterinarias - ECPv6.15.20//NONSGML v1.0//EN
CALSCALE:GREGORIAN
METHOD:PUBLISH
X-WR-CALNAME:Facultad de Ciencias Veterinarias
X-ORIGINAL-URL:https://vet.unne.edu.ar
X-WR-CALDESC:Eventos para Facultad de Ciencias Veterinarias
REFRESH-INTERVAL;VALUE=DURATION:PT1H
X-Robots-Tag:noindex
X-PUBLISHED-TTL:PT1H
BEGIN:VTIMEZONE
TZID:America/Argentina/Buenos_Aires
BEGIN:STANDARD
TZOFFSETFROM:-0300
TZOFFSETTO:-0300
TZNAME:-03
DTSTART:20230101T000000
END:STANDARD
END:VTIMEZONE
BEGIN:VEVENT
DTSTART;TZID=America/Argentina/Buenos_Aires:20241113T000000
DTEND;TZID=America/Argentina/Buenos_Aires:20241115T235900
DTSTAMP:20260420T034353
CREATED:20241031T151904Z
LAST-MODIFIED:20241111T132412Z
UID:4912-1731456000-1731715140@vet.unne.edu.ar
SUMMARY:III CONGRESO INTERNACIONAL DE ZOONOSIS "DR. OMAR BOTTINELLI"
DESCRIPTION:III CONGRESO INTERNACIONAL DE ZOONOSIS “DR. OMAR BOTTINELLI”\nV CONGRESO INTERNACIONAL DE ENFERMEDADES TRANSMISIBLES\nIII CONGRESO IBEROAMERICANO DE EQUINOCOCCOSIS\nX CONGRESO ARGENTINO DE ZOONOSIS
URL:https://vet.unne.edu.ar/event/iii-congreso-internacional-de-zoonosis-dr-oamar-botinelli/
LOCATION:Campus Sargento Cabral\, Sgto. Cabral 2139\, corrientes\, Corrientes\, 3400\, Argentina
ATTACH;FMTTYPE=image/jpeg:https://vet.unne.edu.ar/wp-content/uploads/2024/10/WhatsApp-Image-2024-10-31-at-09.35.40.jpeg
END:VEVENT
END:VCALENDAR