BEGIN:VCALENDAR
VERSION:2.0
PRODID:-//Facultad de Ciencias Veterinarias - ECPv6.15.20//NONSGML v1.0//EN
CALSCALE:GREGORIAN
METHOD:PUBLISH
X-WR-CALNAME:Facultad de Ciencias Veterinarias
X-ORIGINAL-URL:https://vet.unne.edu.ar
X-WR-CALDESC:Eventos para Facultad de Ciencias Veterinarias
REFRESH-INTERVAL;VALUE=DURATION:PT1H
X-Robots-Tag:noindex
X-PUBLISHED-TTL:PT1H
BEGIN:VTIMEZONE
TZID:America/Argentina/Buenos_Aires
BEGIN:STANDARD
TZOFFSETFROM:-0300
TZOFFSETTO:-0300
TZNAME:-03
DTSTART:20240101T000000
END:STANDARD
END:VTIMEZONE
BEGIN:VEVENT
DTSTART;VALUE=DATE:20250301
DTEND;VALUE=DATE:20250701
DTSTAMP:20260419T113417
CREATED:20250219T174252Z
LAST-MODIFIED:20250219T174252Z
UID:5589-1740787200-1751327999@vet.unne.edu.ar
SUMMARY:Curso Regional de Posgrado: "Salud Animal desde la visión de UNA SALUD"
DESCRIPTION:El Comité Académico Salud Animal de la Asociación de Universidades Grupo Montevideo (AUGM)\, convoca a su primer curso regional de posgrado “Salud Animal desde la visión de UNA SALUD: enfermedades zoonóticas\, ambiente\, bioseguridad y epidemiología de brotes”. \nMas Información  \nFormulario de inscripción »  \nPara información e inscripciones al siguiente link: https://grupomontevideo.org/
URL:https://vet.unne.edu.ar/event/curso-regional-de-posgrado-salud-animal-desde-la-vision-de-una-salud/
END:VEVENT
BEGIN:VEVENT
DTSTART;VALUE=DATE:20250405
DTEND;VALUE=DATE:20250406
DTSTAMP:20260419T113417
CREATED:20250326T172703Z
LAST-MODIFIED:20250326T172703Z
UID:5832-1743811200-1743897599@vet.unne.edu.ar
SUMMARY:40° Aniversario del Instituto de Administración de Empresas Agropecuarias (IAEA) - Curuzú Cuatiá
DESCRIPTION:40° Aniversario del Instituto de Administración de Empresas Agropecuarias (IAEA) – Curuzú Cuatiá
URL:https://vet.unne.edu.ar/event/40-aniversario-del-instituto-de-administracion-de-empresas-agropecuarias-iaea-curuzu-cuatia/
LOCATION:Instituto de Administración de Empresas\, Curuzú Cuatiá\, Argentina
END:VEVENT
END:VCALENDAR